Workbook
Name ____L2: #REF!
Name ____L2: #REF!
Name ____L2: #REF!
Name ____L2: #REF!
Name ____LM3: #REF!
Name ____LM3: #REF!
Name ____LM3: #REF!
Name ____LM3: #REF!
Name ___ff1: #REF!
Name ___ff1: #REF!
Name ___ff1: #REF!
Name ___ff1: #REF!
Name ___L2: #REF!
Name ___L2: #REF!
Name ___L2: #REF!
Name ___L2: #REF!
Name ___L3: #REF!
Name ___L3: #REF!
Name ___L3: #REF!
Name ___L3: #REF!
Name ___L4: #REF!
Name ___L4: #REF!
Name ___L4: #REF!
Name ___L4: #REF!
Name ___LM3: #REF!
Name ___LM3: #REF!
Name ___LM3: #REF!
Name ___LM3: #REF!
Name ___LM3: #REF!
Name ___LM3: #REF!
Name __ff1: #REF!
Name __ff1: #REF!
Name __ff1: #REF!
Name __ff1: #REF!
Name __ff1: #REF!
Name __ff1: #REF!
Name __ff1: #REF!
Name __L2: #REF!
Name __L2: #REF!
Name __L2: #REF!
Name __L2: #REF!
Name __L2: #REF!
Name __L2: #REF!
Name __L2: #REF!
Name __L3: #REF!
Name __L3: #REF!
Name __L3: #REF!
Name __L3: #REF!
Name __L3: #REF!
Name __L3: #REF!
Name __L3: #REF!
Name __L4: #REF!
Name __L4: #REF!
Name __L4: #REF!
Name __L4: #REF!
Name __L4: #REF!
Name __L4: #REF!
Name __L4: #REF!
Name __LM3: #REF!
Name __LM3: #REF!

Sheet FR08001
A1: 工程文件變更通知單 Engineering Document Change Notice
A2: Foxconn Industrial Internet Co., Ltd | AA2: NO:
A3: 文件名稱 Document name | E3: K18X001.00 PACK SOP | R3: 文件編號 Document No. | V3: SOP-NV-AM693B1-03 | AA3: 版次. Ver. | AC3: B
A4: 文件類別 : 工程文件 Doc.Type: Engineering document | K4: 類別(Priority Level)﹕■一般(Normal □ 紧急(Urgent) | V4: 機密(Secret)﹕□ Yes ■ No
A5: 變更之前(Before change description): | R5: 變更之后-After change description:
A6: Update q'ty PS film and strapping Cập nhật lượng dùng màng bọc và dây buộc | R6: Update in charge of engineer Cập nhật kĩ sư phụ trách
A13: 會簽方式 Checking method | E13: ■需要 (Unnecessary) | J13: 紙檔 (On paper) 會議( Meeting, time/location:) / | Z13: 會議室(Meeting room)
A14: 會簽部門 Checking dept | E14: 部門 (Dept.) | J14: 會簽人(Check by) | L14: 描述 (Description)
A23: 分發部門 Deliver to | E23: 分發 Deliver | G23: 部門 Dept. | K23: 份數 Copy | M23: 分發 Deliver | O23: 部門 Dept. | R23: 份數 Copy | T23: 分發 Deliver | V23: 部門 Dept. | W23: 份數 Copy | Y23: 分發 Deliver | AA23: 部門 Dept. | AH23: 份數 Copy
G24: PD-F16 | K24: 1
A29: 批准 Approve | T29: 申請部門(Application Dept.) | X29: IE
A30: 工程主管(Engineering Manager) | K30: QA 主管(QA Manager) | T30: 申請部門主管 Application Dept. Manager | X30: 阮氏秋恒
A31: 黎文泰 | K31: Ken | T31: 申請日期 (Apply by / date) | X31: 阮氏燕 08/16/2022
A32: 保管期限(Storage life): 長期(Long time) 表單號碼(Sheet No.): FK3NVA009001C

Sheet 目錄 
A1: Foxconn Industrial Internet Co., Ltd
A2: 系統名稱(SYSTEM): | G2: 文件名稱(DOCUMENT NAME): | N2: 文件編號(DOCUMENT NO): | T2: 版次Rev.
A3: 工程管理 Quản lí kĩ thuật | G3: =+'FR08001'!E3 -> K18X001.00 PACK SOP | N3: ='FR08001'!V3 -> SOP-NV-AM693B1-03 | T3: =+'FR08001'!AC3 -> B
N4: 頁次 PAGE | P4: 1 | R4: 總頁數 Total | T4: =+MAX(B8:B26)+2 -> 12
B6: ******** 目錄 (Table of Contents) ********
B7: 序號 Item | C7: 內容描述 Content description | I7: 版次 Ver. | J7: 頁次 Page | L7: 序號 Item | M7: 內容描述 Content description | S7: 版次 Ver. | T7: 頁次 Page
B8: 1 | C8: =VI!D3 -> VI1 Kiểm tra ngoại quan | I8: B | J8: 3
B9: 2 | C9: ='Paste label box & Pack box'!D3 -> Pack box | I9: B | J9: 4
B10: 3 | C10: ='Close box I'!D3 -> Put partition, Stack accessories and close box Đặt vách ngăn, Xếp phụ kiện và đóng hộp | I10: B | J10: 5-I
B11: 4 | C11: ='Close box II'!D3 -> Put partition, Stack accessories and close box Đặt vách ngăn, Xếp phụ kiện và đóng hộp | I11: B | J11: 5-II
B12: 5 | C12: ='Weighing & packing -I'!D3 -> Weighing & packing Cân & Đóng thùng | I12: B | J12: 6-I
B13: 6 | C13: ='Weighing & packing-II'!D3 -> Weight &PACK CTN Cân & Đóng thùng | I13: B | J13: 6-II
B14: 7 | C14: ='Pallet Stacking'!D3 -> Pallet Stacking Xếp Pallet | I14: B | J14: 7
B15: 8 | C15: =Warehouse!D3 -> Warehouse Nhập kho | I15: B | J15: 8
B16: 9 | C16: =首件Label!D3 -> 首件Label Label bản đầu | I16: B | J16: 9
B17: 10 | C17: ='Flow-chart'!D3 -> Flowchart Lưu trình | I17: B | J17: 10
A30: ******** Proprietary information of Foxconn ********

Sheet 修訂履歷  
A1: Foxconn Industrial Internet Co., Ltd
A2: 系統名稱(SYSTEM): | D2: 文件名稱(DOCUMENT NAME): | H2: 文件編號(DOCUMENT NO): | K2: 版次REV.
A3: 工程管理 Quản lí kĩ thuật | D3: =+'FR08001'!E3 -> K18X001.00 PACK SOP | H3: =+'FR08001'!V3 -> SOP-NV-AM693B1-03 | K3: =+'FR08001'!AC3 -> B
H4: 頁次 PAGE | I4: 2 | J4: 總頁數 Total | K4: =+'目錄 '!T4 -> 12
C6: ****** 修訂履歷( Revision History)******
B7: 版次 Rev. | C7: 工程變更通知單單號 ECN NO. | E7: 修訂履歷 Revision History | I7: 修訂人 Revision by | J7: 修訂日期 Revision date
B8: A | C8: NA | E8: 初版發行 Phát hành lần đầu | I8: IE LINH | J8: 44554
B9: A1 | C9: NA | E9: Update manual barcode and warehouse content Cập nhật mã liệu sách hướng dẫn và nội dung công đoạn nhập kho | I9: IE LINH | J9: 44600
B10: A2 | C10: NA | E10: Update picture Cập nhật hình ảnh minh họa | I10: IE LINH | J10: 44630
B11: A3 | C11: NA | E11: Update q'ty PS film and strapping Cập nhật lượng dùng màng bọc và dây buộc | I11: IE LINH | J11: 44671
B12: B | C12: NA | E12: Update in charge of engineer Cập nhật kĩ sư phụ trách | I12: IE YEN | J12: 44789
A41: ******** Proprietary information of Foxconn ********

Sheet VI
A1: FOXCONN INDUSTRIAL INTERNET CO.,LTD
A2: 標準作業規范 QUI ĐỊNH THAO TÁC TIÊU CHUẨN
A3: 適用產品 Sản phẩm | B3: K18X001.00 BFX-UA300 | C3: 工站名稱 Công đoạn | D3: VI1 Kiểm tra ngoại quan | F3: 規 範 編 號 Mã tài liệu | I3: SOP-NV-AM693B1-03 | J3: 版本 Phiên bản | K3: B | L3: 頁次 Trang | M3: 3
A4: ※ 使用設備(治工具)Thiết bị, dụng cụ | F4: ※ Illustration/ Hình minh họa:
A5: STT | B5: 使用設備(治工具) Thiết bị, dụng cụ | C5: 編號 Mã | D5: Q'ty | E5: 備註 Chú thích
A6: 1 | B6: Scanner. Máy Scan | C6: NA | D6: 1 | E6: NA
A7: 2 | B7: CMC | C7: NA | D7: 1 | E7: NA
A8: ※ 作業步驟 Nội dung thao tác
A9: 1. Take the product from the line up, check the product without scratches, dirt, anomalous colors,
A10: glue, printing errors on housing ... characters must be accurate, full push buttons such as H.1
A11: Lấy sản phẩm từ chuyền lên, kiểm tra sản phẩm không có hiện tượng xước, bẩn, màu sắc dị thường,
A12: dính keo, các lỗi in ấn trên housing…các kí tự phải chính xác, các nút ấn đầy đủ như H.1
A13: 2.Check the main side of the product must not have scratches, abnormal colors, bavia, dirty ... and other error phenomena.
A14: Kiểm tra mặt chính của sản phẩm không được có các vết xước, màu sắc bất thường, bavia, bẩn… và các hiện tượng lỗi khác.
A15: 3.Check the press buttons to see if there is elasticity (H1). Kiểm tra các nút ấn xem có độ đàn hồi hay không (H1).
A16: 4. Check the gateways without high protrusion, deformation, malformation ... (H.2) Vacuum Battery does not deform.
A17: Kiểm tra các cổng kết nối không có hiện tượng nhô cao, biến dạng, dị hình…(H.2) chân Pin không biến dạng.
A18: 5. Use your hands to turn the boundary of the product, confirm not to be scratched, deformed.
A19: Dùng tay miết một lượt các đường biên của sản phẩm, xác nhận không bị xước, biến dạng.
... A62: Trong quá trình sản xuất, số bản ùn không được vượt quá 3 pcs
A63: 7. Owner: Kỹ sư phụ trách : | F63: ※ 使用材料(零件明細表) Bảng chi tiết các vật liệu sử dụng
A64: Deapartment Bộ phận | B64: Name Tên kĩ sư phụ trách | C64: Contact Phương thức liên lạc | G64: P/N | H64: Specification | L64: Q,ty | M64: Remark
F65: 1 | G65: 521.01610.035 | H65: BOX GIFT 1269*751mm REV.00 B FLUTE G | L65: 1 | M65: Giftbox. Hộp
A66: IE | B66: Nguyễn Thị Yến | C66: 0337278797 | F66: 2 | G66: 510.01126.005 | H66: BAG EPE+PO 890*240mm REV.00 GP K18X0 | L66: 1 | M66: PE bag. Túi PE
A67: PQE | B67: Nguyễn Thị Hằng | C67: 0335578615 | F67: 3 | G67: 540.01577.025 | H67: MANUAL 145*145mm K18X001.00 GP | L67: 1 | M67: Manual. Sách hướng dẫn
A68: ME | B68: Nguyễn Quang Huy | C68: 0354644354 | K68: Standard Time | M68: 75s (CT = 75s)

Sheet Paste label box & Pack box
A1: FOXCONN INDUSTRIAL INTERNET CO.,LTD
A2: 標準作業規范 QUI ĐỊNH THAO TÁC TIÊU CHUẨN
A3: 適用產品 Sản phẩm | B3: =+VI!$B$3 -> K18X001.00 BFX-UA300 | C3: 工站名稱 Công đoạn | D3: Pack box | G3: 規 範 編 號 Mã tài liệu | J3: =VI!I3 -> SOP-NV-AM693B1-03 | L3: 版本 Phiên bản | N3: B | O3: 頁次 Trang | P3: 4
A4: ※ 使用設備(治工具)Thiết bị, dụng cụ | G4: ※ Illustration/ Hình minh họa:
A5: STT | B5: 使用設備(治工具) Thiết bị, dụng cụ | C5: 編號 Mã | D5: Q'ty | E5: 備註 Chú thích
A7: 1 | B7: PC | C7: NA | D7: 1 | E7: NA
A8: 2 | B8: Scan | C8: NA | D8: 1 | E8: NA
A9: ※ 作業步驟 Nội dung thao tác
A10: 1. Get the scanner to scan the code like (H.1). From the material box, take the adapter to scan the code then get
A11: on the product. From the material box, take the book upwards to scan the code. Then to get on the product.
A12: Next, take HDMI and LAN cable, scan then put on the product. Finally, scan Mac code on the box label.
A13: Lấy máy scan tiến hành quét mã như (H.1). Từ thùng liệu, lấy adapter lên quét mã sau đó để lên sản phẩm
A14: Tiếp theo, lấy sách hướng lên quét mã sau đó để lên sản phẩm. Sau đó lấy dây HDMI và LAN,
A15: quét mã rồi đặt lên sản phẩm. Cuối cùng, quét mã Mac trên box label.
A16: 2. Form box material, take adapter box, fold as H2, H3.
A17: Put adapter and screw kit bracket into box as H4. Close box as H5
A18: Từ thùng liệu, lấp hộp đựng sạc lên, kiểm tra không có hiện tượng rách bẩn, sau đó gấp hộp lại như H2, H3
A19: Lấy adapter và ốc treo tường đặt vào hộp như H4 minh họa. Sau đó đóng hộp lại như H5.
A20: 3. Get the box has been folded OK to check there is no dirty, scratching ... (H.6)
... A40: nếu có bất thường cần lập tức thông báo cho chuyền trưởng xử lí.
A41: 3. During production, the number of jammed copies should not exceed 3 pcs | G41: ※ 使用材料(零件明細表) Bảng chi tiết các vật liệu sử dụng
A42: Trong quá trình sản xuất, số bản ùn không được vượt quá 3 pcs | H42: P/N | J42: Specification | N42: Q,ty | O42: Remark
A43: 4. Owner - Kỹ sư phụ trách : | G43: 1 | H43: 520.02874.005 | J43: BOX KRAFT 384*290mm REV.00 E FLUTE G | N43: 1 | O43: Hộp đựng adapter
A44: Deapartment Bộ phận | B44: Name Tên kĩ sư phụ trách | C44: Contact Phương thức liên lạc | G44: 2 | H44: 381.00650.005LT | J44: ADP SW 200~240VAC 57~63Hz 24V 4A L4 | N44: 1 | O44: Adapter
G45: 3 | H45: 406.00136.005 | J45: SCREW KIT BRACKET ASSY PACKING REV.0 | N45: 1 | O45: Ốc treo tường
A46: IE | B46: =VI!B66 -> Nguyễn Thị Yến | C46: =VI!C66 -> 0337278797 | G46: 4 | H46: 371.01056.005 | J46: CABLE RJ45 ASSY 1500+-50mm BLACK GP | N46: 1 | O46: CABLE RJ45
A47: PQE | B47: =VI!B67 -> Nguyễn Thị Hằng | C47: =VI!C67 -> 0335578615 | G47: 5 | H47: 371.01057.005 | J47: CABLE HDMI 19P 1800+-30mm BLACK GP | N47: 1 | O47: CABLE HDMI
A48: ME | B48: =+VI!B68 -> Nguyễn Quang Huy | C48: =+VI!C68 -> 0354644354 | M48: Standard Time | O48: 75s (CT = 75s)

Sheet Close box I
A1: FOXCONN INDUSTRIAL INTERNET CO.,LTD
A2: 標準作業規范 QUI ĐỊNH THAO TÁC TIÊU CHUẨN
A3: 適用產品 Sản phẩm | B3: =VI!B3 -> K18X001.00 BFX-UA300 | C3: 工站名稱 Công đoạn | D3: Put partition, Stack accessories and close box Đặt vách ngăn, Xếp phụ kiện và đóng hộp | G3: 規 範 編 號 Mã tài liệu | J3: ='Paste label box & Pack box'!J3:K3 -> SOP-NV-AM693B1-03 | K3: 版本 Phiên bản | L3: B | M3: 頁次 Trang | N3: 5-I
A4: ※ 使用設備(治工具)Thiết bị, dụng cụ | G4: ※ Illustration/ Hình minh họa:
A5: STT | B5: 使用設備(治工具) Thiết bị, dụng cụ | D5: 編號 Mã | E5: Q'ty | F5: 備註 Chú thích
A6: NA | B6: NA | D6: NA | E6: NA | F6: NA
A7: ※ 作業步驟 Nội dung thao tác
A8: 1.Take the product from the previous stage, confirm that the lable box has been
A9: glued to the box, the product has been carefully inserted in PE bags,
A10: accessories have been edgy through the pack box station.
A11: Lấy sản phẩm đạt từ công đoạn trước, xác nhận box label đã được dán lên box,
A12: sản phẩm đã được đặt cẩn thận trong túi PE, phụ kiện đã được sảo qua trạm pack box.
A13: 2.Take 1 partition check the partition is not dirty, torn, torn,..
A14: then place the product in a partition like H.2.
A15: Lấy 1 vách ngăn 1, kiểm tra không có hiện tượng móp, bẩn,… sau đó đặt vào trong box như H2 minh họa.
A16: 3. From box material, take 2 partition to check, then fold the PE bagand
A17: put the partiton on the two ends of the product as H3.
A18: With two hands, lift the two ends of the partition, lift the product and put it in the box as H4.
... A38: 2.During production, the number of jammed copies should not exceed 3pcs
A39: Trong quá trình sản xuất, số bản ùn không được vượt quá 3pcs | G39: ※ 使用材料(零件明細表) Bảng chi tiết các vật liệu sử dụng
A40: ※ Owner: Kỹ sư phụ trách : | H40: P/N | I40: Specification | L40: Q'ty | M40: Remark
A41: Deapartment Bộ phận | C41: Name Tên kĩ sưphụ trách | D41: Contact Phương thức liên lạc | G41: 1 | H41: 525.00682.005 | I41: FOAM EPE 174*190*35mm REV.00 GP | L41: 1 | M41: FOAM EPE - Vách ngăn 1
G42: 2 | H42: 520.02875.005 | I42: BOX KRAFT 290*348mm REV.00 E FLUTE G | L42: 1 | M42: RCU box kraft. Hộp điều khiển
A43: IE | C43: ='Paste label box & Pack box'!B46 -> Nguyễn Thị Yến | D43: ='Paste label box & Pack box'!C46 -> 0337278797 | G43: 3 | H43: 311.00108.005LT | I43: REMOTE CONTROL BLACK K18X001.00 GP | L43: 1 | M43: RCU. Điều khiển
A44: PQE | C44: ='Paste label box & Pack box'!B47 -> Nguyễn Thị Hằng | D44: ='Paste label box & Pack box'!C47 -> 0335578615 | G44: 4 | H44: 525.00681.005 | I44: FOAM EPE 174*94*55mm REV.00 GP | L44: 2 | M44: FOAM EPE - Vách ngăn 2
A45: ME | C45: =+'Paste label box & Pack box'!B48 -> Nguyễn Quang Huy | D45: 0973882184 | K45: Standard time | M45: 75s (CT = 75s)

Sheet Close box II
A1: FOXCONN INDUSTRIAL INTERNET CO.,LTD
A2: 標準作業規范 QUI ĐỊNH THAO TÁC TIÊU CHUẨN
A3: 適用產品 Sản phẩm | B3: =VI!B3 -> K18X001.00 BFX-UA300 | C3: 工站名稱 Công đoạn | D3: Put partition, Stack accessories and close box Đặt vách ngăn, Xếp phụ kiện và đóng hộp | G3: 規 範 編 號 Mã tài liệu | J3: =VI!I3 -> SOP-NV-AM693B1-03 | K3: 版本 Phiên bản | L3: B | M3: 頁次 Trang | N3: 5-II
A4: ※ 使用設備(治工具)Thiết bị, dụng cụ | G4: ※ Illustration/ Hình minh họa:
A5: STT | B5: 使用設備(治工具) Thiết bị, dụng cụ | D5: 編號 Mã | E5: Q'ty | F5: 備註 Chú thích
A6: NA | B6: NA | D6: NA | E6: NA | F6: NA
A7: ※ 作業步驟 Nội dung thao tác
A8: 5. From box material, take RCU, confirm enough 2 pin and no tear, dirt or abnormal deformation.
A9: Then, put on RCU box. Direction as H7. Close box as H9, then put on left side of the box as H10.
A10: Từ thùng liệu, lấy điều khiển lên, xác nhận không có hiện tượng rách, bẩn hay biến dạng
A11: bất thường. Sau đó đặt điều khiển vào hộp. Chiều hướng như H7 minh họa.
A12: Đóng hộp điều khiển lại như H9, sau đó đặt vào trong box phía bên trái như H10.
A13: 6. Next, form convneyor, take adapter box (H8) Before put adapter box into giftbox,
A14: shake the box, confirm have put screw kit bracket
A15: Then, put adapter box on right side of the box as H10.
A16: Từ chuyền, lấy hộp adapter lên (H8), lắc nhẹ hộp,
A17: xác nhận có tiếng kêu phát ra để kiểm tra hộp đã được đặt ốc treo tường
A18: Sau đó đặt hộp adapter vào phía bên phải box như H10 minh họa.
... A42: 3. When closing the box, pay attention to gently push the edge of
A43: to avoid tearing or breaking the box. (H15) | G43: ※ 使用材料(零件明細表) Bảng chi tiết các vật liệu sử dụng
A44: Khi đóng hộp chú ý đẩy nhẹ mép hộp, tránh làm rách, gãy hộp. (H15) | H44: P/N | I44: Specification | L44: Q'ty | M44: Remark
A45: ※Owner: Kỹ sư phụ trách : | G45: 1 | H45: 525.00682.005 | I45: FOAM EPE 174*190*35mm REV.00 GP | L45: 1 | M45: FOAM EPE - Vách ngăn 1
A46: Deapartment Bộ phận | C46: Name Tên kĩ sư phụ trách | D46: Contact | G46: 2 | H46: 520.02875.005 | I46: BOX KRAFT 290*348mm REV.00 E FLUTE G | L46: 1 | M46: RCU box kraft. Hộp đựng điều khiển
D47: Phương thức liên lạc | G47: 3 | H47: 311.00108.005LT | I47: REMOTE CONTROL BLACK K18X001.00 GP | L47: 1 | M47: RCU. Điều khiển
A48: IE | C48: ='Close box I'!C43 -> Nguyễn Thị Yến | D48: ='Close box I'!D43 -> 0337278797 | G48: 4 | H48: 525.00681.005 | I48: FOAM EPE 174*94*55mm REV.00 GP | L48: 2 | M48: FOAM EPE - Vách ngăn 2
A49: PQE | C49: =+'Close box I'!C44 -> Nguyễn Thị Hằng | D49: =+'Close box I'!D44 -> 0335578615 | K49: Standard time | M49: 75s (CT = 75s)
A50: ME | C50: Nguyễn Quang Huy | D50: =+'Close box I'!D45 -> 0973882184

Sheet Weighing & packing -I
A1: FOXCONN INDUSTRIAL INTERNET CO.,LTD
A2: 標準作業規范 QUI ĐỊNH THAO TÁC TIÊU CHUẨN
A3: 適用產品 Sản phẩm | B3: =VI!B3 -> K18X001.00 BFX-UA300 | C3: 工站名稱 Công đoạn | D3: Weighing & packing Cân & Đóng thùng | H3: 規 範 編 號 Mã tài liệu | K3: ='Close box II'!J3 -> SOP-NV-AM693B1-03 | M3: 版本 Phiên bản | N3: B | O3: 頁次 Trang | Q3: 6-I
A4: ※ 使用設備(治工具)Thiết bị, dụng cụ | H4: ※ Illustration/ Hình minh họa:
A5: STT | B5: 使用設備(治工具) Thiết bị, dụng cụ | D5: 編號 Mã | E5: Q'ty | F5: 備註 Chú thích
A7: 1 | B7: PC. Máy Tính | D7: NA | E7: 1 | F7: NA
A8: 2 | B8: Scanner. Máy Scan | D8: NA | E8: 1 | F8: NA
A9: 3 | B9: Adhesive tape machine Máy dán băng dính | D9: NA | E9: 1 | F9: NA
A10: 4 | B10: Printer máy in | D10: NA | E10: 1 | F10: NA
A11: 5 | B11: Weight Machine. Cân | D11: NA | E11: 1 | F11: NA
A12: ※ 作業步驟 Nội dung thao tác
A13: 1. From the conveyor belt to the product box to confirm, Box does not have dirty tearing unusual color. (H.1a, H1b)
A14: Từ băng chuyền lấy sản phẩm lên, xác nhận hộp không có hiện tượng rách bẩn màu sắc bất thường. (H.1a, H.1b)
A15: 2. Put the product on the scales, weight scales (H.2)
A16: Đặt sản phẩm lên cân, cân trọng lượng (H.2)
A17: 3. Get the Housing Box SN code scanner on the product (H.3).
A18: Lấy máy Scan quét mã Housing Box SN trên sản phẩm (H.3).
A19: 4. If the computer screen appears "PASS" (H.4) is the product reached.
A20: Nếu màn hình máy tính xuất hiện "PASS" (H.4) là sản phẩm đạt.
A21: 5. If the computer screen appears "FAIL" (H.5), put it in the error product area,notification of the handling chief.
A22: Nếu màn hình máy tính xuất hiện “FAIL”(H.5) thì đặt vào khu vực sản phẩm lỗi, thông báo chuyền trưởng xử lí.
A23: 6.All operations are based on the description (H.6) follow steps 1->2->3->4->5
... A48: 4.Owner - Kỹ sư phụ trách :
A49: Deparment Bộ phận | B49: Name Tên kĩ sư phụ trách | D49: Contact Phương thức liên lạc
A50: IE | B50: ='Close box II'!C48 -> Nguyễn Thị Yến | D50: ='Close box II'!D48 -> 0337278797
A51: PQE | B51: ='Close box II'!C49 -> Nguyễn Thị Hằng | D51: ='Close box II'!D49 -> 0335578615 | M51: Standard Time | O51: 75s (CT = 75s)
A52: ME | B52: =+'Close box II'!C50 -> Nguyễn Quang Huy | D52: =+'Close box II'!D50 -> 0973882184

Sheet Weighing & packing-II
A1: FOXCONN INDUSTRIAL INTERNET CO.,LTD
A2: 標準作業規范 QUI ĐỊNH THAO TÁC TIÊU CHUẨN
A3: 適用產品 Sản phẩm | B3: =VI!B3 -> K18X001.00 BFX-UA300 | C3: 工站名稱 Công đoạn | D3: Weight &PACK CTN Cân & Đóng thùng | H3: 規 範 編 號 Mã tài liệu | J3: =VI!I3 -> SOP-NV-AM693B1-03 | M3: 版本 Phiên bản | N3: B | O3: 頁次 Trang | Q3: 6-II
A4: ※ 作業步驟 Nội dung thao tác
A5: 7.After folding all 4 boxes into the carton, take the scanner to scan the SN code on the Box.Automatic printers printed
A6: out Carton Label. Paste the newly printed Label to the outside of the Carton position and sticker direction as (H.7)
A7: Sau khi đã xếp đủ 4 hộp vào thùng carton, lấy máy scan lần lượt quét mã SN trên Box. Máy in tự động
A8: in ra Carton Label. Dán Label vừa được in ra vào phía ngoài của Carton vị trí và hướng dán như (H.7) minh họa.
A9: 8. Before pasting Carton Label, check the SN order on the Carton Label and order 4 boxes in carton must be the same.
A10: Check that the label must not be faulty with skewed printing, breaking code, skewed code out of the edge (H.7).
A11: If there is an error, scan "print" on the program, select "reprint", then scan again SN code boxes,
A12: print to another label page.
A13: Trước khi dán Carton Label, kiểm tra thứ tự SN trên Carton Label và thứ tự 4 hộp trong
A14: carton phải giống nhau. Kiểm tra xác nhận label không được bị lỗi in lệch, đứt mã, mã lệch
A15: ra ngoài biên (H.7). Nếu có lỗi thì quét "print" trên chương trình, chọn "reprint", sau đó quét lại
... A34: 5. Label's instance must be true to the version defined in ECN (Crafting Document)
A35: Phiên bản của Label phải đúng với phiên bản định nghĩa trong ECN (Văn kiện chế tạo) | H35: ※ 使用材料(零件明細表) Bảng chi tiết các vật liệu sử dụng
A36: 6. Labels must not be pasted more than 5 degrees. Pallets must be marked by IPPC (H.10) | I36: P/N | J36: Specification | O36: Q'ty | Q36: Remark
A37: Label không được dán lệch quá 5 độ. Pallet phải có dấu của IPPC (H.10) | H37: 1 | I37: 520.02928.005 | J37: CARTON 885*389*242mm REV.00 BC FLUTE | O37: 1/4 | Q37: Carton
A38: 7. When the carton is finished, check the lower part of the carton as (H.8A-NG/8B-OK) illustrates. | H38: 2 | I38: 503.00748.015 | J38: LABEL BLANK 150*100mm REV.00 WHITE G | O38: 1/4 | Q38: Carton Label
A39: Đóng thùng xong, tự kiểm tra lại phần trên dưới của thùng Carton | H39: 3 | I39: 520.02878.005 | J39: CARTON COVER 870*374mm REV.00 BC FLU | O39: 2/4 | Q39: Vách ngăn trên dưới
A40: đều được dán băng dính như (H.8A-NG/8B-OK) minh họa. | H40: 4 | I40: 515.00006.005 | J40: PACKING TAPE Polypropylene Film REV. | O40: 0.00097 | Q40: Tape. Băng dính
H41: 5 | I41: 520.02877.005 | J41: PAPER BOARD 1236*210mm REV.00 BC FLU | O41: 2/4 | Q41: Vách ngăn cạnh
H42: 6 | I42: 527.00146.005 | J42: PALLET 1219*1016*120mm WOODEN PALLET | O42: 1/48 | Q42: PALLET

Sheet Pallet Stacking
A1: FOXCONN INDUSTRIAL INTERNET CO.,LTD
A2: 標準作業規范 QUI ĐỊNH THAO TÁC TIÊU CHUẨN
A3: 適用產品 Sản phẩm | B3: ='Weighing & packing-II'!B3 -> K18X001.00 BFX-UA300 | C3: 工站名稱 Công đoạn | D3: Pallet Stacking Xếp Pallet | H3: 規 範 編 號 Mã tài liệu | L3: ='Weighing & packing-II'!J3 -> SOP-NV-AM693B1-03 | N3: 版本 Phiên bản | O3: B | P3: 頁次 Trang | R3: 7
A4: ※ 使用設備(治工具)Thiết bị, dụng cụ
A5: STT | B5: 使用設備(治工具) Thiết bị, dụng cụ | D5: 編號 Mã | E5: Q'ty | F5: 備註 Chú thích
A7: 1 | B7: PC. Máy Tính | D7: NA | E7: 1 | F7: NA
A8: 2 | B8: Scanner. Máy Scan | D8: NA | E8: 1 | F8: NA
A9: 3 | B9: Printer. Máy in label | D9: NA | E9: 1 | F9: NA
A10: 4 | B10: Rope tying machine. Máy buộc dây | D10: NA | E10: 1 | F10: NA
A11: 5 | B11: Stapling machine. Máy dập ghim | D11: NA | E11: 1 | F11: NA
A12: ※ 作業步驟 Nội dung thao tác
A13: 1. Take the scan, scan Carton label ID (H1), print out the Pallet Label. (H2)
A14: Cầm máy Scan quét mã Carton Label (H.1), máy in in ra Pallet Label (H2).
A15: 2. Take pallet Label paste to the Pallet in the middle
A16: of the base pin the label to pallet, paste on the side that has carton label tight label,
A17: use stapling machine stapl two head of label into pallet. (H2&H3)
A18: Lấy Pallet Label dán lên Pallet tại phần giữa của đế, dán Pallet label ở mặt có Carton label ,
A19: miết chặt label, dùng ghim ghim chặt label vào Pallet như (H.2&H.3)
A20: 3. Use paper board bezel fix the top 4 corners of the pallet as H2
A21: Dùng thanh nẹp carton cố định 4 góc trên của pallet như H2 minh họa.
A22: 4. Use blue plastic straps to pin the 4 corners of the pallet block
A23: Dùng dây đai nhựa màu xanh ghim 4 góc khối pallet đã đóng sản phẩm (H.2).
... A44: Label dán không được: nhăn, rách, bẩn, lệch qúa 5 độ, mất nét
A45: 5. Note: This SOP use for Kitting. Chú ý: SOP sử dụng cho Kitting. | H45: ※ 使用材料(零件明細表) Bảng chi tiết các vật liệu sử dụng
A46: 6. Owner. Kỹ sư phụ trách | I46: P/N | J46: P/N | K46: Specification | P46: Q'ty | R46: Remark
A47: 部門 Bộ phận | B47: 名稱 Tên kĩ sư phụ trách | C47: 聯絡方式 Phương thức liên lạc | H47: 1 | J47: 522.00216.005 | K47: PAPER BOARD BEZEL 800*50*50mm REV.1 | P47: 4/48 | R47: Paper board. Thanh nẹp
H48: 2 | I48: 522.00215.005 | J48: 527.00146.005 | K48: PALLET 1219*1016*120mm WOODEN PALLET | P48: 0.020834 | R48: PALLET
A49: IE | B49: ='Weighing & packing -I'!B50:C50 -> Nguyễn Thị Yến | C49: ='Weighing & packing -I'!D50 -> 0337278797 | H49: 3 | I49: 522.00214.005 | J49: 511.00050.005 | K49: STRAPPING 16*0.7mm REV.00 GP/HF | P49: 0.000292 | R49: Strapping. Dây buộc
A50: PQE | B50: ='Weighing & packing -I'!B51:C51 -> Nguyễn Thị Hằng | C50: ='Weighing & packing -I'!D51 -> 0335578615 | H50: 4 | J50: 503.00098.005 | K50: LABEL BLANK 100*50mm REV.0 WHITE GP/ | P50: 1/48 | R50: Pallet Label
A51: ME | B51: =+'Weighing & packing -I'!B52:C52 -> Nguyễn Quang Huy | C51: 0973882184 | N51: Standard Time | O51: 75s (CT = 75s)

Sheet Warehouse
A1: FOXCONN INDUSTRIAL INTERNET CO.,LTD
A2: 標準作業規范 QUI ĐỊNH THAO TÁC TIÊU CHUẨN
A3: 適用產品 Sản phẩm | B3: ='Pallet Stacking'!B3 -> K18X001.00 BFX-UA300 | C3: 工站名稱 Công đoạn | D3: Warehouse Nhập kho | H3: 規 範 編 號 Mã tài liệu | L3: ='Pallet Stacking'!L3:M3 -> SOP-NV-AM693B1-03 | N3: 版本 Phiên bản | O3: B | P3: 頁次 Trang | R3: 8
A4: ※ 使用設備(治工具)Thiết bị, dụng cụ
A5: STT | B5: 使用設備(治工具) Thiết bị, dụng cụ | D5: 編號 Mã | E5: Q'ty | F5: 備註 Chú thích
A7: 1 | B7: Protective file winding machine Máy quấn màng bảo vệ | D7: NA | E7: 1 | F7: NA
A8: 2 | B8: Scaner. Máy scan | D8: NA | E8: 1 | F8: NA
A9: 3 | B9: PC. Máy tính | D9: NA | E9: 1 | F9: NA
A10: 4 | B10: Printer. Máy in label | D10: NA | E10: 1 | F10: NA
A11: ※ 作業步驟 Nội dung thao tác
A12: 1. Check the pallet, confirm that the pallet is packed enough 12 cartons, label has been
A13: pasted and stapled on pallet. Top side has been fixed by paper board (yellow color position).
A14: Green plastic straps have been pinned to the 4 corners of pallet as H1.
A15: Kiểm tra Pallet, xác nhận pallet đã xếp đủ 12 thùng carton, label pallet đã được dán
A16: và ghim đúng vị trí trên đế Pallet (H.2),4 cạnh trên đã được dùng thanh nẹp cố định (phần khoanh màu vàng),
A17: dây đai nhựa màu xanh đã được ghim vào 4 góc của khối pallet như H.1.
A18: 2. When warehouse, FG must scan pallet label code. Khi nhập kho FG cần thao tác scan mã pallet label.
A19: 3. Using 4-angle carton angle covers (mark red color as H1), use PP bags to complete pallet bags.
A20: Dùng thanh nẹp carton cố định 4 cạnh bên của pallet (được đánh dấu màu đỏ như H1),
A21: dùng túi PP hoàn thành bao pallet.
A22: 4. One carton has must be mark OBA (H3) Một carton phải có dấu của OBA (H.3).
... A53: 2. Note： This SOP use for warehouse. Chú ý: SOP sử dụng cho Kho
A54: 3. Owner. Kỹ sư phụ trách | H54: ※ 使用材料(零件明細表) Bảng chi tiết các vật liệu sử dụng
A55: 部門 Bộ phận | B55: 名稱 Tên kĩ sư phụ trách | C55: 聯絡方式 Phương thức liên lạc | I55: P/N | J55: P/N | K55: Specification | P55: Q'ty | R55: Remark
H56: 1 | J56: 522.00216.005 | K56: PAPER BOARD BEZEL 800*50*50mm REV.1 | P56: 4/48 | R56: Paper board. Thanh nẹp
A57: IE | B57: ='Pallet Stacking'!B49 -> Nguyễn Thị Yến | C57: ='Pallet Stacking'!C49 -> 0337278797 | H57: 2 | I57: 522.00215.005 | J57: 511.00022.015 | K57: PS PACKING FILM 0.022*500mm REV.0 GP | P57: 0.00072 | R57: Packing film. Màng bọc
A58: PQE | B58: ='Pallet Stacking'!B50 -> Nguyễn Thị Hằng | C58: ='Pallet Stacking'!C50 -> 0335578615 | H58: 3 | I58: 522.00214.005 | J58: 503.01104.005 | K58: LABEL BLANK 115*80mm REV.0 YELLOW GP | P58: 0.054167 | R58: Label shipping mark
A59: ME | B59: =+'Pallet Stacking'!B51 -> Nguyễn Quang Huy | C59: 0973882184 | N59: Standard Time | O59: 75s (CT = 75s)

Sheet 首件Label
A1: FOXCONN INDUSTRIAL INTERNET CO.,LTD
A2: 標準作業規范 QUI ĐỊNH THAO TÁC TIÊU CHUẨN
A3: 適用產品 Sản phẩm | B3: =Warehouse!B3 -> K18X001.00 BFX-UA300 | C3: 工站名稱 Công đoạn | D3: 首件Label Label bản đầu | E3: 使用設備(治工具) Thiết bị, dụng cụ | F3: NA | G3: 規 範 編 號 Mã tài liệu | H3: =Warehouse!L3 -> SOP-NV-AM693B1-03 | I3: 版次 Phiên bản | J3: B | K3: 頁次 Trang | L3: 9
A4: Label 類型 (Loại Label) | B4: 料號 (Mã liệu) | C4: Photo (Hình ảnh) | E4: Label 類型 (Loại Label) | F4: 料號 (Mã liệu) | G4: Photo (Hình ảnh) | I4: Label 類型 (Loại Label) | J4: 料號 (Mã liệu) | K4: Photo (Hình ảnh)
A5: Gift box Label | B5: 500.02574.015 | E5: Carton Label | F5: 503.00748.015 | I5: Pallet Label | J5: 503.00098.005
A6: Label 類型 (Loại Label) | B6: 料號 (Mã liệu) | C6: Photo (Hình ảnh) | E6: Label 類型 (Loại Label) | F6: 料號 (Mã liệu) | G6: Photo (Hình ảnh) | I6: Label 類型 (Loại Label) | J6: 料號 (Mã liệu) | K6: Photo (Hình ảnh)
A7: Energy Efficiency Label | B7: 504.01839.015 | E7: Device Label | F7: 500.02574.015 | I7: Mac Label | J7: 503.00034.005
A8: Label 類型 (Loại Label) | B8: 料號 (Mã liệu) | C8: Photo (Hình ảnh) | E8: Label 類型 (Loại Label) | F8: 料號 (Mã liệu) | G8: Photo (Hình ảnh) | I8: Label 類型 (Loại Label) | J8: 料號 (Mã liệu) | K8: Photo (Hình ảnh)

Sheet Sheet1

Sheet Flow-chart
A1: FOXCONN INDUSTRIAL INTERNET CO.,LTD
A2: 標準作業規范 QUI ĐỊNH THAO TÁC TIÊU CHUẨN
A3: 適用產品 Sản phẩm | B3: =首件Label!B3 -> K18X001.00 BFX-UA300 | C3: 工站名稱 Công đoạn | D3: Flowchart Lưu trình | E3: 規 範 編 號 Mã tài liệu | F3: =首件Label!H3 -> SOP-NV-AM693B1-03 | G3: 版本 Phiên bản | H3: B | I3: 頁次 Trang | J3: 10
